BEGIN:VCALENDAR
VERSION:2.0
PRODID:-//Southwood UCC - ECPv6.15.20//NONSGML v1.0//EN
CALSCALE:GREGORIAN
METHOD:PUBLISH
X-ORIGINAL-URL:https://thatchurch.us
X-WR-CALDESC:Events for Southwood UCC
REFRESH-INTERVAL;VALUE=DURATION:PT1H
X-Robots-Tag:noindex
X-PUBLISHED-TTL:PT1H
BEGIN:VTIMEZONE
TZID:America/Chicago
BEGIN:DAYLIGHT
TZOFFSETFROM:-0600
TZOFFSETTO:-0500
TZNAME:CDT
DTSTART:20210314T080000
END:DAYLIGHT
BEGIN:STANDARD
TZOFFSETFROM:-0500
TZOFFSETTO:-0600
TZNAME:CST
DTSTART:20211107T070000
END:STANDARD
BEGIN:DAYLIGHT
TZOFFSETFROM:-0600
TZOFFSETTO:-0500
TZNAME:CDT
DTSTART:20220313T080000
END:DAYLIGHT
BEGIN:STANDARD
TZOFFSETFROM:-0500
TZOFFSETTO:-0600
TZNAME:CST
DTSTART:20221106T070000
END:STANDARD
BEGIN:DAYLIGHT
TZOFFSETFROM:-0600
TZOFFSETTO:-0500
TZNAME:CDT
DTSTART:20230312T080000
END:DAYLIGHT
BEGIN:STANDARD
TZOFFSETFROM:-0500
TZOFFSETTO:-0600
TZNAME:CST
DTSTART:20231105T070000
END:STANDARD
BEGIN:DAYLIGHT
TZOFFSETFROM:-0600
TZOFFSETTO:-0500
TZNAME:CDT
DTSTART:20240310T080000
END:DAYLIGHT
BEGIN:STANDARD
TZOFFSETFROM:-0500
TZOFFSETTO:-0600
TZNAME:CST
DTSTART:20241103T070000
END:STANDARD
BEGIN:DAYLIGHT
TZOFFSETFROM:-0600
TZOFFSETTO:-0500
TZNAME:CDT
DTSTART:20250309T080000
END:DAYLIGHT
BEGIN:STANDARD
TZOFFSETFROM:-0500
TZOFFSETTO:-0600
TZNAME:CST
DTSTART:20251102T070000
END:STANDARD
BEGIN:DAYLIGHT
TZOFFSETFROM:-0600
TZOFFSETTO:-0500
TZNAME:CDT
DTSTART:20260308T080000
END:DAYLIGHT
BEGIN:STANDARD
TZOFFSETFROM:-0500
TZOFFSETTO:-0600
TZNAME:CST
DTSTART:20261101T070000
END:STANDARD
END:VTIMEZONE
BEGIN:VEVENT
DTSTART;TZID=America/Chicago:20250225T190000
DTEND;TZID=America/Chicago:20250225T203000
DTSTAMP:20260425T105641
CREATED:20250212T165003Z
LAST-MODIFIED:20250212T165007Z
UID:2624-1740510000-1740515400@thatchurch.us
SUMMARY:Threats to Refugees and Immigrants-FREE Zoom Event
DESCRIPTION:Register at the link below to join us for a free Zoom event on Tuesday\, February 25\, 7:00-8:30p.m. Central Time with panelists who are dealing with immigrants and refugees whose lives and dreams are being destroyed as we speak while groups that can help are having their funds cut and hands tied. Learn what is happening as a new administration takes charge and\, more importantly\, how you can help. Suzanne Gladney is an Immigration Attorney & founder of Migrant Farmworkers Assistance just east of Kansas City. Meagan Fanning works for Jewish Vocational Services in social work with immigrants settling in KC. Abigail Cipparone is the Domestic Policy Advocate for the United Church of Christ in Washington\, D.C. with a focus on immigration issues and policy. This event is being sponsored and organized by the Greater Kansas City Interfaith Council. Co-sponsors include Southwood United Church of Christ\, The Cross Border Network\, the Interfaith Center at Miami University\, Peaceworks KC\, and Migrant Farmworkers Assistance.
URL:https://thatchurch.us/event/threats-to-refugees-and-immigrants-free-zoom-event/
CATEGORIES:Community
ATTACH;FMTTYPE=image/jpeg:https://thatchurch.us/wp-content/uploads/2025/02/illegal.jpg
END:VEVENT
BEGIN:VEVENT
DTSTART;TZID=America/Chicago:20240606T080000
DTEND;TZID=America/Chicago:20240608T160000
DTSTAMP:20260425T105641
CREATED:20240527T143908Z
LAST-MODIFIED:20240527T143913Z
UID:2378-1717660800-1717862400@thatchurch.us
SUMMARY:Rummage and Bake Sale
DESCRIPTION:
URL:https://thatchurch.us/event/rummage-and-bake-sale/
LOCATION:Southwood United Church of Christ\, 7904 Raytown Rd\, Raytown\, Missouri\, 64138
CATEGORIES:Community
ATTACH;FMTTYPE=image/png:https://thatchurch.us/wp-content/uploads/2024/05/Rummage-Sale.png
END:VEVENT
BEGIN:VEVENT
DTSTART;TZID=America/Chicago:20240221T190000
DTEND;TZID=America/Chicago:20240221T194500
DTSTAMP:20260425T105641
CREATED:20240219T155147Z
LAST-MODIFIED:20240219T155148Z
UID:2297-1708542000-1708544700@thatchurch.us
SUMMARY:Lenten Gathering
DESCRIPTION:
URL:https://thatchurch.us/event/lenten-gathering/
CATEGORIES:All Church
ATTACH;FMTTYPE=image/png:https://thatchurch.us/wp-content/uploads/2024/02/lenten.png
END:VEVENT
BEGIN:VEVENT
DTSTART;TZID=America/Chicago:20230916T170000
DTEND;TZID=America/Chicago:20230916T210000
DTSTAMP:20260425T105641
CREATED:20230907T212722Z
LAST-MODIFIED:20230907T213108Z
UID:2181-1694883600-1694898000@thatchurch.us
SUMMARY:Swoodfest
DESCRIPTION:Come enjoy Southwood’s version of Octoberfest.
URL:https://thatchurch.us/event/swoodfest/
END:VEVENT
BEGIN:VEVENT
DTSTART;TZID=America/Chicago:20230913T173000
DTEND;TZID=America/Chicago:20230913T210000
DTSTAMP:20260425T105641
CREATED:20230907T213018Z
LAST-MODIFIED:20230907T213018Z
UID:2183-1694626200-1694638800@thatchurch.us
SUMMARY:Movie Night
DESCRIPTION:The Green Justice Team invites you to a special showing of the film This Changes Everything in the sanctuary.  Dinner and discussion to follow
URL:https://thatchurch.us/event/movie-night/
END:VEVENT
BEGIN:VEVENT
DTSTART;TZID=America/Chicago:20230608T080000
DTEND;TZID=America/Chicago:20230610T160000
DTSTAMP:20260425T105641
CREATED:20230604T160612Z
LAST-MODIFIED:20230604T160613Z
UID:2121-1686211200-1686412800@thatchurch.us
SUMMARY:Rummage Sale
DESCRIPTION:Join us from 8 am-4 pm June 8\, 9\, 10 to find your next treasure.
URL:https://thatchurch.us/event/rummage-sale/
LOCATION:Southwood UCC\, 7904 Raytown Rd\, Raytown\, Missouri\, 64138\, United States
CATEGORIES:Community
END:VEVENT
BEGIN:VEVENT
DTSTART;TZID=America/Chicago:20230505T000000
DTEND;TZID=America/Chicago:20230507T235959
DTSTAMP:20260425T105641
CREATED:20220915T162817Z
LAST-MODIFIED:20220915T162818Z
UID:1848-1683244800-1683503999@thatchurch.us
SUMMARY:Women's Retreat
DESCRIPTION:Next year’s Women’s Retreat is being planned by Southwood UCC. Stay tuned for more details.
URL:https://thatchurch.us/event/womens-retreat/
CATEGORIES:All Church,Community
ATTACH;FMTTYPE=image/png:https://thatchurch.us/wp-content/uploads/2022/09/Womens-Retreat.png
END:VEVENT
BEGIN:VEVENT
DTSTART;TZID=America/Chicago:20230216T120000
DTEND;TZID=America/Chicago:20230216T140000
DTSTAMP:20260425T105641
CREATED:20230116T211024Z
LAST-MODIFIED:20230116T211136Z
UID:1984-1676548800-1676556000@thatchurch.us
SUMMARY:Driving Safety Seminar
DESCRIPTION:“Keep Your Keys: Staying Safe on the Road\,” a free presentation on driving safety\, will occur at 1 p.m.\, Thursday\, Feb. 16\, at Southwood.  \n\n\n\nTopics will include staying fit to drive\, preparing for driving retirement\, and resources to stay safe on the road. \n\n\n\nSponsored by St. Luke’s Hospital and MU Health Care\, the featured speaker will be Jessica Giacone\, injury prevention coordinator.  \n\n\n\nSign up in the Narthex to attend a free lunch at noon\, prior to the event. For more information\, contact Denise Hill. 
URL:https://thatchurch.us/event/driving-safety-seminar/
CATEGORIES:All Church,Community
ATTACH;FMTTYPE=image/png:https://thatchurch.us/wp-content/uploads/2023/01/KYK.png
END:VEVENT
BEGIN:VEVENT
DTSTART;TZID=America/Chicago:20230116T080000
DTEND;TZID=America/Chicago:20230116T170000
DTSTAMP:20260425T105641
CREATED:20230116T212243Z
LAST-MODIFIED:20230116T212245Z
UID:1987-1673856000-1673888400@thatchurch.us
SUMMARY:Camp Registration is already underway!
DESCRIPTION:Early bird pricing is available through February and registration prices will increase on March 1. \n\n\n\nGo to www.campmoval.org/camp-info for more information and register.
URL:https://thatchurch.us/event/camp-registration-is-already-underway/
CATEGORIES:All Church,children,Community,youth
ATTACH;FMTTYPE=image/gif:https://thatchurch.us/wp-content/uploads/2023/01/Camp-MOVAL.gif
END:VEVENT
BEGIN:VEVENT
DTSTART;TZID=America/Chicago:20221206T190000
DTEND;TZID=America/Chicago:20221206T190000
DTSTAMP:20260425T105641
CREATED:20221110T165547Z
LAST-MODIFIED:20221110T165548Z
UID:1926-1670353200-1670353200@thatchurch.us
SUMMARY:Worship Team
DESCRIPTION:
URL:https://thatchurch.us/event/worship-team/
ATTACH;FMTTYPE=image/gif:https://thatchurch.us/wp-content/uploads/2022/11/Worship-comma-1.gif
ORGANIZER;CN="Marlene Osborn":MAILTO:mdosborn52@gmail.com
END:VEVENT
BEGIN:VEVENT
DTSTART;TZID=America/Chicago:20221204T090000
DTEND;TZID=America/Chicago:20221204T100000
DTSTAMP:20260425T105641
CREATED:20221114T175620Z
LAST-MODIFIED:20221114T175622Z
UID:1933-1670144400-1670148000@thatchurch.us
SUMMARY:New Members Class
DESCRIPTION:Interested in Southwood UCC and the United Church of Christ? Come meet with Pastor Michael Stephens\, who will share with you and answer your questions in a casual setting.
URL:https://thatchurch.us/event/new-members-class/
ATTACH;FMTTYPE=image/png:https://thatchurch.us/wp-content/uploads/2022/11/new-members-class-sm.png
END:VEVENT
BEGIN:VEVENT
DTSTART;TZID=America/Chicago:20221201T093000
DTEND;TZID=America/Chicago:20221201T093000
DTSTAMP:20260425T105641
CREATED:20221110T164830Z
LAST-MODIFIED:20221110T165142Z
UID:1917-1669887000-1669887000@thatchurch.us
SUMMARY:Fellowship Team
DESCRIPTION:
URL:https://thatchurch.us/event/fellowship-team/
ATTACH;FMTTYPE=image/gif:https://thatchurch.us/wp-content/uploads/2022/11/Fellowship-comma-1.gif
ORGANIZER;CN="Irl Newham":MAILTO:IrlNewham@gmail.com
END:VEVENT
BEGIN:VEVENT
DTSTART;TZID=America/Chicago:20221129T000000
DTEND;TZID=America/Chicago:20221129T235959
DTSTAMP:20260425T105641
CREATED:20221110T151642Z
LAST-MODIFIED:20221110T154048Z
UID:1892-1669680000-1669766399@thatchurch.us
SUMMARY:Giving Tuesday
DESCRIPTION:Help us launch Climate Hope Summer! \n\n\n\nImagine 12 youth and young adults from across the country engaging in a dynamic fellowship program next year! Paired with a mentor and supportive UCC community\, each fellow will participate in a project that will grow their understanding of environmental justice and nurture their leadership skills. Your gift to Climate Hope Summer will inspire these young leaders to advance one of our most important social justice causes. \n\n\n\nProven Success \n\n\n\nLast summer\, the UCC sponsored a successful fellowship program for New Jersey\, Oregon\, and New Hampshire youth\, similar to Climate Hope Summer. Participants: \n\n\n\nCreated a creation care curriculum for schoolchildrenGained a theological perspective on climate justiceLearned about regenerative agriculture \n\n\n\nYour Giving Tuesday donation will allow more youth and young adults to flourish in the important work of Environmental Justice. Gifts will also support an Earth Day Summit next year and our Environmental Justice Ministries. \n\n\n\nOur goal is $75\,000.  To donate now\, text UCCGT to 41444 or click DONATE. \n\n\n\nTHANK YOU! \n\n\n\n\n\n \n\n\n\n\n\n\n\nDONATE
URL:https://thatchurch.us/event/giving-tuesday/
ATTACH;FMTTYPE=image/gif:https://thatchurch.us/wp-content/uploads/2022/11/giving-Tuesday.gif
END:VEVENT
BEGIN:VEVENT
DTSTART;TZID=America/Chicago:20221120T113000
DTEND;TZID=America/Chicago:20221120T133000
DTSTAMP:20260425T105641
CREATED:20220915T161341Z
LAST-MODIFIED:20220915T161342Z
UID:1845-1668943800-1668951000@thatchurch.us
SUMMARY:Hanging of the Greens
DESCRIPTION:Help decorate for the Advent and Christmas season.
URL:https://thatchurch.us/event/hanging-of-the-greens/
CATEGORIES:All Church
ATTACH;FMTTYPE=image/png:https://thatchurch.us/wp-content/uploads/2022/09/Hanging-of-the-Greens.png
END:VEVENT
BEGIN:VEVENT
DTSTART;TZID=America/Chicago:20221113T160000
DTEND;TZID=America/Chicago:20221113T160000
DTSTAMP:20260425T105641
CREATED:20221110T161244Z
LAST-MODIFIED:20221110T161245Z
UID:1901-1668355200-1668355200@thatchurch.us
SUMMARY:Community Thanksgiving Service
DESCRIPTION:Blue Ridge Presbyterian Hosting \n\n\n\n6429 Blue Ridge Blvd\, Raytown\, MO 64133 \n\n\n\nWe will be gathering canned food donations and taking a financial offering for Rivers of Refuge.
URL:https://thatchurch.us/event/community-thanksgiving-service/
LOCATION:Blue Ridge Presbyterian\, 6429 Blue Ridge Blvd\, Raytown\, Missouri\, 64133\, United States
ATTACH;FMTTYPE=image/gif:https://thatchurch.us/wp-content/uploads/2022/11/Community-Thanksgiving-Service.gif
END:VEVENT
BEGIN:VEVENT
DTSTART;TZID=America/Chicago:20221110T190000
DTEND;TZID=America/Chicago:20221110T190000
DTSTAMP:20260425T105641
CREATED:20221110T164543Z
LAST-MODIFIED:20221110T165400Z
UID:1906-1668106800-1668106800@thatchurch.us
SUMMARY:Mission Team
DESCRIPTION:
URL:https://thatchurch.us/event/mission-team/
ATTACH;FMTTYPE=image/gif:https://thatchurch.us/wp-content/uploads/2022/11/Mission-comma-1.gif
ORGANIZER;CN="Kristi Littleton":MAILTO:kristi1226@gmail.com
END:VEVENT
BEGIN:VEVENT
DTSTART;TZID=America/Chicago:20221106T113000
DTEND;TZID=America/Chicago:20221106T120000
DTSTAMP:20260425T105641
CREATED:20201018T165703Z
LAST-MODIFIED:20221015T132427Z
UID:891-1667734200-1667736000@thatchurch.us
SUMMARY:Annual Congregational Meeting
DESCRIPTION:At this Congregational Meeting we will vote on next year’s budget\, new Council members\, and representatives for Association/Conference meetings.
URL:https://thatchurch.us/event/annual-congregational-meeting/
CATEGORIES:All Church
ATTACH;FMTTYPE=image/gif:https://thatchurch.us/wp-content/uploads/2020/10/five-ducks-in-a-row.gif
END:VEVENT
BEGIN:VEVENT
DTSTART;TZID=America/Chicago:20221030T113000
DTEND;TZID=America/Chicago:20221030T120000
DTSTAMP:20260425T105641
CREATED:20220915T155131Z
LAST-MODIFIED:20220915T155132Z
UID:1842-1667129400-1667131200@thatchurch.us
SUMMARY:Ministry Fair
DESCRIPTION:Be not afraid! Join us after Sunday Service in Fellowship Hall and learn about ways you can be involved in groups and ministries at Southwood. There will be snacks and coffee!
URL:https://thatchurch.us/event/ministry-fair/
CATEGORIES:All Church
ATTACH;FMTTYPE=image/gif:https://thatchurch.us/wp-content/uploads/2022/09/hereswhatweboo.gif
END:VEVENT
BEGIN:VEVENT
DTSTART;TZID=America/Chicago:20221008T100000
DTEND;TZID=America/Chicago:20221008T100000
DTSTAMP:20260425T105641
CREATED:20220908T203700Z
LAST-MODIFIED:20220908T203702Z
UID:1829-1665223200-1665223200@thatchurch.us
SUMMARY:CROP Walk
DESCRIPTION:The annual Kansas City/Heart of America CROP Hunger Walk will be at 10 a.m.\, Saturday\, Oct. 8\, at Central United Methodist Church.  \n\n\n\nJoin the Southwood team! You can sign up to walk or donate online or at church. (Mark “CROP Walk” in the memo of checks.) Use the QR code below to go to the website today!  \n\n\n\nCrop Hunger Walk
URL:https://thatchurch.us/event/crop-walk/
CATEGORIES:All Church,Community
ATTACH;FMTTYPE=application/pdf:https://thatchurch.us/wp-content/uploads/2022/09/RS6798_CHW-logo.pdf
END:VEVENT
BEGIN:VEVENT
DTSTART;TZID=America/Chicago:20220924T170000
DTEND;TZID=America/Chicago:20220924T170000
DTSTAMP:20260425T105641
CREATED:20220908T170959Z
LAST-MODIFIED:20220908T171000Z
UID:1809-1664038800-1664038800@thatchurch.us
SUMMARY:S'woodfest is Back
DESCRIPTION:Come enjoy Southwood’s own version of Oktoberfest starting at 5 p.m.\, Saturday\, Sept. 24\, at the annual Swoodfest! This is a wonderful opportunity to visit\, play lawn games and enjoy a great meal! There’s lots of room for kids to run and play and have lots of family fun. \n\n\n\nHot dogs and bratwurst\, buns\, condiments\, iced tea and coffee will be provided. Please bring a side dish or dessert to add to the feast! Additional beverages (including beer and wine)\, lawn chairs\, picnic blankets and lawn games are also welcome. \n\n\n\nIn the event of rain\, Swoodfest will be moved to the Southwood fellowship hall. If you have questions\, contact Pastor Michael at (816) 645-9557.
URL:https://thatchurch.us/event/swoodfest-is-back/
CATEGORIES:All Church
ATTACH;FMTTYPE=image/gif:https://thatchurch.us/wp-content/uploads/2022/09/Swoodfest.gif
END:VEVENT
BEGIN:VEVENT
DTSTART;TZID=America/Chicago:20220913T173000
DTEND;TZID=America/Chicago:20220913T203000
DTSTAMP:20260425T105641
CREATED:20220908T170037Z
LAST-MODIFIED:20220908T170131Z
UID:1806-1663090200-1663101000@thatchurch.us
SUMMARY:Faith it Forward
DESCRIPTION:All are invited to join Pastor Michael at the 2022 Table of Faiths Fundraiser and Signature Event from 5:30-8:30 p.m.\, Tuesday\, Sept. 13\, at Stoney Creek Hotel & Conference Center. \n\n\n\nTickets are $55 and can be purchased by clicking here. The event is sponsored by the Greater Kansas City Interfaith Council.
URL:https://thatchurch.us/event/faith-it-forward/
CATEGORIES:All Church,Community
ATTACH;FMTTYPE=image/png:https://thatchurch.us/wp-content/uploads/2022/09/FIF.png
END:VEVENT
BEGIN:VEVENT
DTSTART;TZID=America/Chicago:20220911T090000
DTEND;TZID=America/Chicago:20220911T113000
DTSTAMP:20260425T105641
CREATED:20220908T165716Z
LAST-MODIFIED:20220908T165717Z
UID:1803-1662886800-1662895800@thatchurch.us
SUMMARY:Rally Day
DESCRIPTION:9am All-Church Sunday School on the lawn \n\n\n\n10:30am Sunday Service begins \n\n\n\nFellowship and snacks after Service
URL:https://thatchurch.us/event/rally-day-2/
CATEGORIES:All Church,Community
ATTACH;FMTTYPE=image/png:https://thatchurch.us/wp-content/uploads/2022/09/RallyDay.png
END:VEVENT
BEGIN:VEVENT
DTSTART;TZID=America/Chicago:20220820T160000
DTEND;TZID=America/Chicago:20220820T193000
DTSTAMP:20260425T105641
CREATED:20220731T155225Z
LAST-MODIFIED:20220731T155225Z
UID:1607-1661011200-1661023800@thatchurch.us
SUMMARY:Ice Cream Social
DESCRIPTION:Join us for HOMEMADE ice cream and other goodies.  All are welcome.
URL:https://thatchurch.us/event/ice-cream-social/
LOCATION:7904 Raytown Road\, Raytown\, MO 64138
ATTACH;FMTTYPE=image/png:https://thatchurch.us/wp-content/uploads/2022/07/Ice-Cream.png
END:VEVENT
END:VCALENDAR